BEGIN:VCALENDAR
PRODID:-//SIMsKultur.net//iCal Class MIMEDIR//EN
VERSION:2.0
METHOD:PUBLISH
BEGIN:VEVENT
DTSTART:20260617T173000Z
DTEND:20260617T183000Z
LOCATION;LANGUAGE=de:Dr. Karl Renner-Promenade 22, 3100 St. Pölten
TRANSP:OPAQUE
SEQUENCE:0
UID:fd1e37ec17c0807ac1268fa2a80c7aa2
DTSTAMP:20260425T162200Z
DESCRIPTION;LANGUAGE=de:Wunderkammer: Italienische Grandezza und französische Noblesse - „Genug Ideen für ein ganzes Leben“ könne man in nur wenigen Tagen sammeln, wenn man den Musikern in den Kneipen Osteuropas lausche, stellt Georg Philipp Telemann in seiner Autobiografie fest. Sein schier unerschöpfliches Œuvre gleicht einer Wunderkammer, gefüllt mit unzähligen musikalischen Kleinoden und Kuriosi- täten.

Ehemalige Synagoge St. Pölten
Dr. Karl Renner-Promenade 22, 3100 St. Pölten
i: https://www.ehemalige-synagoge.at/de
t: +43 2742 908090-972
e: info@ehemalige-synagoge.at

Ein Service von Kultur.net. http://www.simskultur.net
SUMMARY;LANGUAGE=de:Wunderkammer
PRIORITY:5
CLASS:PUBLIC
URL:https://kultur.net/ehemalige-synagoge-st-poelten/programm/wunderkammer
STATUS:CONFIRMED
END:VEVENT
END:VCALENDAR
