BEGIN:VCALENDAR
PRODID:-//SIMsKultur.net//iCal Class MIMEDIR//EN
VERSION:2.0
METHOD:PUBLISH
BEGIN:VEVENT
DTSTART:20260711T130000Z
DTEND:20260711T140000Z
LOCATION;LANGUAGE=de:Kaiser-Josef-Platz 10, 8010 Graz
TRANSP:OPAQUE
SEQUENCE:0
UID:79cf2bc09c20608815518a2a50e2de28
DTSTAMP:20260420T033600Z
DESCRIPTION;LANGUAGE=de:Pretty Woman - Das Musical: Mit über elf Millionen Kinozuschauer*innen im deutschsprachigen Raum erlangte Pretty Woman Kult-Status und machte Julia Roberts und Richard Gere zu Weltstars. Auch der gleichnamige Titel-Song von Roy Orbison wurde zu einem Grammyprämierten Nr. 1-Hit mit Ohrwurm-Garantie. Nun gastiert die turbulente Liebesgeschichte um das ungleiche Paar Vivian und Edward erstmals in Österreich! Erleben Sie Pretty Woman – Das Musical als romantisches, humorvolles und mitreißendes Bühnenereignis mit der Musik von Weltstar Bryan Adams.

Oper Graz
Kaiser-Josef-Platz 10, 8010 Graz
i: www.oper-graz.com
t: +43 316 8000
e: oper@oper-graz.at

Ein Service von Kultur.net. http://www.simskultur.net
SUMMARY;LANGUAGE=de:Pretty Woman - Das Musical
PRIORITY:5
CLASS:PUBLIC
URL:https://kultur.net/oper-graz/programm/pretty-woman-das-musical
STATUS:CONFIRMED
END:VEVENT
END:VCALENDAR
