BEGIN:VCALENDAR
PRODID:-//SIMsKultur.net//iCal Class MIMEDIR//EN
VERSION:2.0
METHOD:PUBLISH
BEGIN:VEVENT
DTSTART:20260613T160000Z
DTEND:20260613T170000Z
LOCATION;LANGUAGE=de:Kaiser-Josef-Platz 10, 8010 Graz
TRANSP:OPAQUE
SEQUENCE:0
UID:bedea6126652c23825835142b265d37e
DTSTAMP:20260425T004500Z
DESCRIPTION;LANGUAGE=de:Der Rosenkavalier: Philipp M. Krenn, Regisseur von Schlaflos in der Spielzeit 2023/24, inszeniert Richard Strauss’ und Hugo von Hofmannsthals melancholischen Welterfolg, in dem die schwebenden Walzermelodien genauso historische Fiktion sind wie das zeitlose Gesellschaftsbild voller Überheblichkeit, Standesdünkel, kalkulierter Ränke und komplexer Amouren.

Oper Graz
Kaiser-Josef-Platz 10, 8010 Graz
i: www.oper-graz.com
t: +43 316 8000
e: oper@oper-graz.at

Ein Service von Kultur.net. http://www.simskultur.net
SUMMARY;LANGUAGE=de:Der Rosenkavalier
PRIORITY:5
CLASS:PUBLIC
URL:https://kultur.net/oper-graz/programm/der-rosenkavalier
STATUS:CONFIRMED
END:VEVENT
END:VCALENDAR
