BEGIN:VCALENDAR
PRODID:-//SIMsKultur.net//iCal Class MIMEDIR//EN
VERSION:2.0
METHOD:PUBLISH
BEGIN:VEVENT
DTSTART:20260531T130000Z
DTEND:20260531T140000Z
LOCATION;LANGUAGE=de:Kaiser-Josef-Platz 10, 8010 Graz
TRANSP:OPAQUE
SEQUENCE:0
UID:2efa665fb5cbee3547f240e93e33d53c
DTSTAMP:20260425T004600Z
DESCRIPTION;LANGUAGE=de:Der Rosenkavalier: Philipp M. Krenn, Regisseur von Schlaflos in der Spielzeit 2023/24, inszeniert Richard Strauss’ und Hugo von Hofmannsthals melancholischen Welterfolg, in dem die schwebenden Walzermelodien genauso historische Fiktion sind wie das zeitlose Gesellschaftsbild voller Überheblichkeit, Standesdünkel, kalkulierter Ränke und komplexer Amouren.

Oper Graz
Kaiser-Josef-Platz 10, 8010 Graz
i: www.oper-graz.com
t: +43 316 8000
e: oper@oper-graz.at

Ein Service von Kultur.net. http://www.simskultur.net
SUMMARY;LANGUAGE=de:Der Rosenkavalier
PRIORITY:5
CLASS:PUBLIC
URL:https://kultur.net/oper-graz/programm/der-rosenkavalier
STATUS:CONFIRMED
END:VEVENT
END:VCALENDAR
