BEGIN:VCALENDAR
PRODID:-//SIMsKultur.net//iCal Class MIMEDIR//EN
VERSION:2.0
METHOD:PUBLISH
BEGIN:VEVENT
DTSTART:20261127T230000Z
LOCATION;LANGUAGE=de:Johann von Nepomuk-Platz 1, 2700 Wiener Neustadt
TRANSP:OPAQUE
SEQUENCE:0
UID:b0644838da97a8f86fa6ad49f8eaf14f
DTSTAMP:20260420T050300Z
DESCRIPTION;LANGUAGE=de:Monika Kus-Picco: In ihren Arbeiten schafft Monika Kus-Picco eine Bildwelt, in der Material, Farbe und spontane Gesten miteinander ins Gespräch kommen. Schichten, Überlagerungen und kleine Brüche lassen Oberflächen entstehen, die zugleich Ruhe ausstrahlen und dennoch Bewegung zeigen.

Museum St. Peter an der Sperr
Johann von Nepomuk-Platz 1, 2700 Wiener Neustadt
i: https://www.museum-wn.at
t: +43 2622 373951 
e: museum@wiener-neustadt.at

Ein Service von Kultur.net. http://www.simskultur.net
SUMMARY;LANGUAGE=de:Monika Kus-Picco
PRIORITY:5
CLASS:PUBLIC
URL:https://kultur.net/museum-st-peter-an-der-sperr/programm/monika-kus-picco
STATUS:CONFIRMED
END:VEVENT
END:VCALENDAR
