BEGIN:VCALENDAR
PRODID:-//SIMsKultur.net//iCal Class MIMEDIR//EN
VERSION:2.0
METHOD:PUBLISH
BEGIN:VEVENT
DTSTART:20261120T230000Z
LOCATION;LANGUAGE=de:Johann von Nepomuk-Platz 1, 2700 Wiener Neustadt
TRANSP:OPAQUE
SEQUENCE:0
UID:3cd6c5f1cefd910469a84a990cdedc1f
DTSTAMP:20260419T181100Z
DESCRIPTION;LANGUAGE=de:Wiener Neustädter Künstlervereinigung - Ausstellung der Wiener Neustädter Künstlervereinigung: Seit 1967 nutzen Künstlerinnen und Künstler aus Wiener Neustadt und der umliegenden Region den spätgotischen ehemaligen Kirchenraum als Bühne für eine umfangreiche Ausstellung, die facettenreiche Einblicke in ihr Schaffen ermöglicht. Gemeinsam entscheiden die Teilnehmenden, ob sie ein freies oder ein verbindendes Thema für die Präsentation wählen.

Museum St. Peter an der Sperr
Johann von Nepomuk-Platz 1, 2700 Wiener Neustadt
i: https://www.museum-wn.at
t: +43 2622 373951 
e: museum@wiener-neustadt.at

Ein Service von Kultur.net. http://www.simskultur.net
SUMMARY;LANGUAGE=de:Wiener Neustädter Künstlervereinigung - Ausstellung der Wiener Neustädter Künstlervereinigung
PRIORITY:5
CLASS:PUBLIC
URL:https://kultur.net/museum-st-peter-an-der-sperr/programm/wiener-neustaedter-kuenstlervereinigung-ausstellung-der-wiener
STATUS:CONFIRMED
END:VEVENT
END:VCALENDAR
