BEGIN:VCALENDAR
PRODID:-//SIMsKultur.net//iCal Class MIMEDIR//EN
VERSION:2.0
METHOD:PUBLISH
BEGIN:VEVENT
DTSTART:20261003T220000Z
LOCATION;LANGUAGE=de:Johann von Nepomuk-Platz 1, 2700 Wiener Neustadt
TRANSP:OPAQUE
SEQUENCE:0
UID:481301b9600d4fd4af2ad03b012bfde5
DTSTAMP:20260419T194800Z
DESCRIPTION;LANGUAGE=de:Jakob Gasteiger: Farbe wird zu Masse, Struktur zu Rhythmus. - Jakob Gasteiger untersucht in seinen Arbeiten die Energie des Materials und die Präzision der Geste. Durch wiederholte, fast meditative Bewegungen entstehen reliefartige Oberflächen, die zwischen Malerei und Skulptur oszillieren.

Museum St. Peter an der Sperr
Johann von Nepomuk-Platz 1, 2700 Wiener Neustadt
i: https://www.museum-wn.at
t: +43 2622 373951 
e: museum@wiener-neustadt.at

Ein Service von Kultur.net. http://www.simskultur.net
SUMMARY;LANGUAGE=de:Jakob Gasteiger
PRIORITY:5
CLASS:PUBLIC
URL:https://kultur.net/museum-st-peter-an-der-sperr/programm/jakob-gasteiger
STATUS:CONFIRMED
END:VEVENT
END:VCALENDAR
