BEGIN:VCALENDAR
PRODID:-//SIMsKultur.net//iCal Class MIMEDIR//EN
VERSION:2.0
METHOD:PUBLISH
BEGIN:VEVENT
DTSTART:20260523T220000Z
LOCATION;LANGUAGE=de:Johann von Nepomuk-Platz 1, 2700 Wiener Neustadt
TRANSP:OPAQUE
SEQUENCE:0
UID:fd7ad0b1ca01ff1c1447cd530e875b44
DTSTAMP:20260419T212200Z
DESCRIPTION;LANGUAGE=de:Schmeckt’s?: Eine Mitmachausstellung rund ums Essen für junges Gemüse ab 8 Jahren. - Willkommen auf dem buntesten Markt der Stadt! Zwischen zahlreichen Ständen gehen Kinder spannenden Fragen nach: Woher kommt unser Essen eigentlich? Wächst Pizza auf Bäumen? (Spoiler: leider nein.) Wie weit reist Zimt und was passiert, bevor der Kuchen im Ofen landet? Hier darf gestaunt, ausprobiert und natürlich ordentlich nachgedacht werden.

Museum St. Peter an der Sperr
Johann von Nepomuk-Platz 1, 2700 Wiener Neustadt
i: https://www.museum-wn.at
t: +43 2622 373951 
e: museum@wiener-neustadt.at

Ein Service von Kultur.net. http://www.simskultur.net
SUMMARY;LANGUAGE=de:Schmeckt’s?
PRIORITY:5
CLASS:PUBLIC
URL:https://kultur.net/museum-st-peter-an-der-sperr/programm/schmeckt-s
STATUS:CONFIRMED
END:VEVENT
END:VCALENDAR
