BEGIN:VCALENDAR
PRODID:-//SIMsKultur.net//iCal Class MIMEDIR//EN
VERSION:2.0
METHOD:PUBLISH
BEGIN:VEVENT
DTSTART:20260711T120000Z
DTEND:20260711T130000Z
LOCATION;LANGUAGE=de:Bahngasse 27, 2700 Wiener Neustadt
TRANSP:OPAQUE
SEQUENCE:0
UID:9a2f1d92087da1d1140e16db55762ed7
DTSTAMP:20260419T145200Z
DESCRIPTION;LANGUAGE=de:MAXIMILIANTOUR: Themenführung durch die Stadt (Empfohlen ab 12 Jahren) - Die Kulturvermittlung nimmt Sie mit in die Zeit Kaiser Maximilians I. – eine Epoche des Umbruchs und Aufbruchs. Wie lebte man am Ende des Mittelalters in der Residenzstadt Wiener Neustadt? Welche Sorgen und Nöte bewegten die Menschen, und wer ging in der Burg ein und aus?

Kasematten Wiener Neustadt
Bahngasse 27, 2700 Wiener Neustadt
i: https://www.kasematten-wn.at/de/
t: +43 2622 373 933
e: office@kasematten-wn.at

Ein Service von Kultur.net. http://www.simskultur.net
SUMMARY;LANGUAGE=de:MAXIMILIANTOUR
PRIORITY:5
CLASS:PUBLIC
URL:https://kultur.net/kasematten-wiener-neustadt/programm/maximiliantour
STATUS:CONFIRMED
END:VEVENT
END:VCALENDAR
