BEGIN:VCALENDAR
PRODID:-//SIMsKultur.net//iCal Class MIMEDIR//EN
VERSION:2.0
METHOD:PUBLISH
BEGIN:VEVENT
DTSTART:20260909T150000Z
DTEND:20260909T160000Z
LOCATION;LANGUAGE=de:Bahngasse 27, 2700 Wiener Neustadt
TRANSP:OPAQUE
SEQUENCE:0
UID:3e901dd6e9bdbb71a8d25c9ac33657ce
DTSTAMP:20260419T121600Z
DESCRIPTION;LANGUAGE=de:STADTPARKFÜHRUNG: Geführte Stadtparktour (Empfohlen ab 10 Jahren) - Entdecken Sie die Artenvielfalt des "Natur im Garten" Schaugarten-zertifizierten Stadtparks Wiener Neustadt!
Florian Fux, Leiter des Grünraums in Wiener Neustadt, wird Sie durch den Stadtpark Wiener Neustadt führen und Ihnen dabei spannende Einblicke in die Besonderheiten und Naturdenkmäler des Parks geben.

Kasematten Wiener Neustadt
Bahngasse 27, 2700 Wiener Neustadt
i: https://www.kasematten-wn.at/de/
t: +43 2622 373 933
e: office@kasematten-wn.at

Ein Service von Kultur.net. http://www.simskultur.net
SUMMARY;LANGUAGE=de:STADTPARKFÜHRUNG
PRIORITY:5
CLASS:PUBLIC
URL:https://kultur.net/kasematten-wiener-neustadt/programm/stadtparkfuehrung
STATUS:CONFIRMED
END:VEVENT
END:VCALENDAR
