BEGIN:VCALENDAR
PRODID:-//SIMsKultur.net//iCal Class MIMEDIR//EN
VERSION:2.0
METHOD:PUBLISH
BEGIN:VEVENT
DTSTART:20260623T163000Z
DTEND:20260623T173000Z
LOCATION;LANGUAGE=de:Bahngasse 27, 2700 Wiener Neustadt
TRANSP:OPAQUE
SEQUENCE:0
UID:749855113d84a6bf763083ba02507f84
DTSTAMP:20260424T090900Z
DESCRIPTION;LANGUAGE=de:Schlusskonzert der J.M.-Hauer Musikschule: Die Josef-Matthias-Hauer Musikschule feiert traditionell ihr Schlusskonzert mit Solisten, Ensembles und Orchester in den Kasematten Wiener Neustadt.

Kasematten Wiener Neustadt
Bahngasse 27, 2700 Wiener Neustadt
i: https://www.kasematten-wn.at/de/
t: +43 2622 373 933
e: office@kasematten-wn.at

Ein Service von Kultur.net. http://www.simskultur.net
SUMMARY;LANGUAGE=de:Schlusskonzert der J.M.-Hauer Musikschule
PRIORITY:5
CLASS:PUBLIC
URL:https://kultur.net/kasematten-wiener-neustadt/programm/schlusskonzert-der-jm-hauer-musikschule-0
STATUS:CONFIRMED
END:VEVENT
END:VCALENDAR
