BEGIN:VCALENDAR
PRODID:-//SIMsKultur.net//iCal Class MIMEDIR//EN
VERSION:2.0
METHOD:PUBLISH
BEGIN:VEVENT
DTSTART:20260616T173000Z
DTEND:20260616T183000Z
LOCATION;LANGUAGE=de:Bahngasse 27, 2700 Wiener Neustadt
TRANSP:OPAQUE
SEQUENCE:0
UID:59b2b39b46024bb2481235199ddbe687
DTSTAMP:20260425T021700Z
DESCRIPTION;LANGUAGE=de:Jazz am Dach - Tag 1 - Open Air: WN BIG BAND & CRAZY HAUER BIG BAND - Erleben Sie zwei unvergessliche Abende voller mitreißender Jazz- und Soul-Klänge – und das in einer Location, die an Charme kaum zu übertreffen ist. Beim Festival „Jazz am Dach“ erwartet Sie Musikgenuss auf höchstem Niveau:

Kasematten Wiener Neustadt
Bahngasse 27, 2700 Wiener Neustadt
i: https://www.kasematten-wn.at/de/
t: +43 2622 373 933
e: office@kasematten-wn.at

Ein Service von Kultur.net. http://www.simskultur.net
SUMMARY;LANGUAGE=de:Jazz am Dach - Tag 1 - Open Air
PRIORITY:5
CLASS:PUBLIC
URL:https://kultur.net/kasematten-wiener-neustadt/programm/jazz-am-dach-tag-1-open-air
STATUS:CONFIRMED
END:VEVENT
END:VCALENDAR
