BEGIN:VCALENDAR
PRODID:-//SIMsKultur.net//iCal Class MIMEDIR//EN
VERSION:2.0
METHOD:PUBLISH
BEGIN:VEVENT
DTSTART:20260606T173000Z
DTEND:20260606T183000Z
LOCATION;LANGUAGE=de:Herzog-Leopold-Straße 17, 2700 Wiener Neustadt
TRANSP:OPAQUE
SEQUENCE:0
UID:224b51c8ccc8288b4840498d59bb6282
DTSTAMP:20260424T135300Z
DESCRIPTION;LANGUAGE=de:Brahms & Marx - Tonkünstler-Orchester Niederösterreich: «Eben aus der Probe zurück. Nr. IV riesig, ganz eigenartig, ganz neu, eherne Individualität. Athmet beispiellose Energie von a bis z»: So hielt es Hans von Bülow fest, der Dirigent der Uraufführung der vierten Symphonie von Johannes Brahms.

Stadttheater Wiener Neustadt
Herzog-Leopold-Straße 17, 2700 Wiener Neustadt
i: https://www.stadttheater-wn.at/
t: +43 2622 340 00
e: info@stadttheater-wn.at

Ein Service von Kultur.net. http://www.simskultur.net
SUMMARY;LANGUAGE=de:Brahms & Marx - Tonkünstler-Orchester Niederösterreich
PRIORITY:5
CLASS:PUBLIC
URL:https://kultur.net/stadttheater-wiener-neustadt/programm/brahms-marx-tonkuenstler-orchester-niederoesterreich
STATUS:CONFIRMED
END:VEVENT
END:VCALENDAR
