BEGIN:VCALENDAR
PRODID:-//SIMsKultur.net//iCal Class MIMEDIR//EN
VERSION:2.0
METHOD:PUBLISH
BEGIN:VEVENT
DTSTART:20260529T173000Z
DTEND:20260529T183000Z
LOCATION;LANGUAGE=de:Herzog-Leopold-Straße 17, 2700 Wiener Neustadt
TRANSP:OPAQUE
SEQUENCE:0
UID:0a20a657d87fba677c43f81c01c0d0c9
DTSTAMP:20260423T024300Z
DESCRIPTION;LANGUAGE=de:Safer Six: 12 Points! Alles A Cappella: Die größten Hits des Song Contests - Safer Six, die Garanten für unterhaltsame und mitreißende A-cappella-Musik aus Pop und Rock, haben es wieder getan: ein neues Programm geschaffen. Taada dadadaada daaaaaaa da – herzlich willkommen beim Song Contest!

Stadttheater Wiener Neustadt
Herzog-Leopold-Straße 17, 2700 Wiener Neustadt
i: https://www.stadttheater-wn.at/
t: +43 2622 340 00
e: info@stadttheater-wn.at

Ein Service von Kultur.net. http://www.simskultur.net
SUMMARY;LANGUAGE=de:Safer Six
PRIORITY:5
CLASS:PUBLIC
URL:https://kultur.net/stadttheater-wiener-neustadt/programm/safer-six-0
STATUS:CONFIRMED
END:VEVENT
END:VCALENDAR
