BEGIN:VCALENDAR
PRODID:-//SIMsKultur.net//iCal Class MIMEDIR//EN
VERSION:2.0
METHOD:PUBLISH
BEGIN:VEVENT
DTSTART:20260422T183000Z
DTEND:20260422T193000Z
LOCATION;LANGUAGE=de:Herzog-Leopold-Straße 17, 2700 Wiener Neustadt
TRANSP:OPAQUE
SEQUENCE:0
UID:6920b78458c75931230d8c646f49695e
DTSTAMP:20260425T210100Z
DESCRIPTION;LANGUAGE=de:Ghostwalk: In the House: Kloster und Kanonenkranz, Kino und Koralle: Das Stadttheater Wiener Neustadt blickt auf eine lange und wechselhafte Geschichte zurück, und das glashaus Kollektiv blickt mit. Die vierte Ausgabe des beliebten GHOST WALKs führt erstmals nicht quer durch die Innenstadt, sondern hinter eine ihrer bedeutendsten Türen. Hereinspaziert!

Stadttheater Wiener Neustadt
Herzog-Leopold-Straße 17, 2700 Wiener Neustadt
i: https://www.stadttheater-wn.at/
t: +43 2622 340 00
e: info@stadttheater-wn.at

Ein Service von Kultur.net. http://www.simskultur.net
SUMMARY;LANGUAGE=de:Ghostwalk: In the House
PRIORITY:5
CLASS:PUBLIC
URL:https://kultur.net/stadttheater-wiener-neustadt/programm/ghostwalk-in-the-house
STATUS:CONFIRMED
END:VEVENT
END:VCALENDAR
