BEGIN:VCALENDAR
PRODID:-//SIMsKultur.net//iCal Class MIMEDIR//EN
VERSION:2.0
METHOD:PUBLISH
BEGIN:VEVENT
DTSTART:20261031T230000Z
LOCATION;LANGUAGE=de:Hausmeninger Straße 221, 3362 Amstetten
TRANSP:OPAQUE
SEQUENCE:0
UID:6cb66e0838f18c3c10de629f07fce851
DTSTAMP:20260425T230300Z
DESCRIPTION;LANGUAGE=de:NÖ Landesausstellung 2026 - WENN DIE WELT KOPF STEHT: Die Ausstellung „WENN DIE WELT KOPF STEHT“ beleuchtet die Verbindung zwischen Mensch, Psyche und Gesundheit. Sie zeigt künstlerisch die Herausforderungen psychischer Erkrankungen und deren Auswirkungen auf Betroffene und Angehörige. Ziel ist es, Verständnis zu fördern, Vorurteile abzubauen und die heilende Kraft kreativer Ausdrucksformen hervorzuheben.

Landesklinikum Mauer
Hausmeninger Straße 221, 3362 Amstetten
i: 
t: 

Ein Service von Kultur.net. http://www.simskultur.net
SUMMARY;LANGUAGE=de:NÖ Landesausstellung 2026 - WENN DIE WELT KOPF STEHT
PRIORITY:5
CLASS:PUBLIC
URL:https://kultur.net/landesklinikum-mauer/programm/noe-landesausstellung-2026-wenn-die-welt-kopf-steht
STATUS:CONFIRMED
END:VEVENT
END:VCALENDAR
