BEGIN:VCALENDAR
PRODID:-//SIMsKultur.net//iCal Class MIMEDIR//EN
VERSION:2.0
METHOD:PUBLISH
BEGIN:VEVENT
DTSTART:20260704T173000Z
DTEND:20260704T183000Z
LOCATION;LANGUAGE=de:Seestraße 2, 6900 Bregenz
TRANSP:OPAQUE
SEQUENCE:0
UID:073cb76503838fde6032f063105faff4
DTSTAMP:20260425T021700Z
DESCRIPTION;LANGUAGE=de:EIN SOMMERNACHTSTRAUM: Die Nacht ist warm und voller Magie, der Wald geheimnisvoll, Schatten flüstern, Licht tanzt zwischen den Bäumen: In Shakespeares Sommernachtstraum vermengen sich Traum und Wirklichkeit, Lust und Verwirrung, Ordnung und Anarchie. Die Liebe stolpert, taumelt, findet sich neu – nichts bleibt, wie es war.

Vorarlberger Landestheater
Seestraße 2, 6900 Bregenz
i: https://landestheater.org/
t: +43 5574 42870600 
e: info@landestheater.org

Ein Service von Kultur.net. http://www.simskultur.net
SUMMARY;LANGUAGE=de:EIN SOMMERNACHTSTRAUM
PRIORITY:5
CLASS:PUBLIC
URL:https://kultur.net/vorarlberger-landestheater/programm/ein-sommernachtstraum
STATUS:CONFIRMED
END:VEVENT
END:VCALENDAR
