BEGIN:VCALENDAR
PRODID:-//SIMsKultur.net//iCal Class MIMEDIR//EN
VERSION:2.0
METHOD:PUBLISH
BEGIN:VEVENT
DTSTART:20260531T160000Z
DTEND:20260531T170000Z
LOCATION;LANGUAGE=de:Untere Donaulände 7, 4010 Linz
TRANSP:OPAQUE
SEQUENCE:0
UID:0eb6b8cea6d7f1288267aafefc549d23
DTSTAMP:20260425T131600Z
DESCRIPTION;LANGUAGE=de:Mnozil Brass - Strau$$ – Ein Tänzchen zwischen den Stühlen: Dass das walzerbesoffene «Duidu, Duidu» und sein relaxtes Pendant «Dudidubidu» tatsächlich nur einen Katzensprung, nicht viel mehr als «a warm embracing dance away» voneinander entfernt sind – das ist den Meistern von Mnozil Brass schon seit Ewigkeiten klar.

Brucknerhaus Linz
Untere Donaulände 7, 4010 Linz
i: www.brucknerhaus.at
t: +43 732 76120
e: brucknerhaus@liva.linz.at

Ein Service von Kultur.net. http://www.simskultur.net
SUMMARY;LANGUAGE=de:Mnozil Brass - Strau$$ – Ein Tänzchen zwischen den Stühlen
PRIORITY:5
CLASS:PUBLIC
URL:https://kultur.net/brucknerhaus-linz/programm/mnozil-brass-strau-ein-taenzchen-zwischen-den-stuehlen
STATUS:CONFIRMED
END:VEVENT
END:VCALENDAR
