BEGIN:VCALENDAR
PRODID:-//SIMsKultur.net//iCal Class MIMEDIR//EN
VERSION:2.0
METHOD:PUBLISH
BEGIN:VEVENT
DTSTART:20260528T173000Z
DTEND:20260528T183000Z
LOCATION;LANGUAGE=de:Untere Donaulände 7, 4010 Linz
TRANSP:OPAQUE
SEQUENCE:0
UID:bb21b7da561cd492c7fc23f23f527ce8
DTSTAMP:20260422T120800Z
DESCRIPTION;LANGUAGE=de:Minetti Quartett trifft - The Düsseldorf Düsterboys: Was passiert, wenn das renommierte Minetti Quartett mit Werken des klassischen Streichquartettrepertoires auf Songs der Düsseldorf Düsterboys trifft? Auf die Antwort dürften Kammermusik- wie Popfans gleichermaßen gespannt sein! Mit ihrem »outernational Folk-Pop« zählen die Düsseldorf Düsterboys zu den derzeit aufregendsten deutschsprachigen Bands.

Brucknerhaus Linz
Untere Donaulände 7, 4010 Linz
i: www.brucknerhaus.at
t: +43 732 76120
e: brucknerhaus@liva.linz.at

Ein Service von Kultur.net. http://www.simskultur.net
SUMMARY;LANGUAGE=de:Minetti Quartett trifft - The Düsseldorf Düsterboys
PRIORITY:5
CLASS:PUBLIC
URL:https://kultur.net/brucknerhaus-linz/programm/minetti-quartett-trifft-the-duesseldorf-duesterboys
STATUS:CONFIRMED
END:VEVENT
END:VCALENDAR
