BEGIN:VCALENDAR
PRODID:-//SIMsKultur.net//iCal Class MIMEDIR//EN
VERSION:2.0
METHOD:PUBLISH
BEGIN:VEVENT
DTSTART:20260527T173000Z
DTEND:20260527T183000Z
LOCATION;LANGUAGE=de:Untere Donaulände 7, 4010 Linz
TRANSP:OPAQUE
SEQUENCE:0
UID:f15b6e5aba0017c2e5d7e5626e098bf0
DTSTAMP:20260422T114500Z
DESCRIPTION;LANGUAGE=de:Stars of Blues & Boogie Woogie - Benefizkonzert: Ein musikalisches Highlight nicht nur für Blues- und Boogie Fans! Axel Zwingenberger und Martin Pyrker haben 1976 mit der Boogie-Woogie Session 76 live in Vienna im ausverkauften Wiener Konzerthaus den Piano-Blues und Boogie Boom in Europa ausgelöst, der bis heute anhält.


Brucknerhaus Linz
Untere Donaulände 7, 4010 Linz
i: www.brucknerhaus.at
t: +43 732 76120
e: brucknerhaus@liva.linz.at

Ein Service von Kultur.net. http://www.simskultur.net
SUMMARY;LANGUAGE=de:Stars of Blues & Boogie Woogie - Benefizkonzert
PRIORITY:5
CLASS:PUBLIC
URL:https://kultur.net/brucknerhaus-linz/programm/stars-of-blues-boogie-woogie-benefizkonzert
STATUS:CONFIRMED
END:VEVENT
END:VCALENDAR
