BEGIN:VCALENDAR
PRODID:-//SIMsKultur.net//iCal Class MIMEDIR//EN
VERSION:2.0
METHOD:PUBLISH
BEGIN:VEVENT
DTSTART:20260518T160000Z
DTEND:20260518T170000Z
LOCATION;LANGUAGE=de:Untere Donaulände 7, 4010 Linz
TRANSP:OPAQUE
SEQUENCE:0
UID:2d2e60a573ce46e2d7bf93a664d62cf8
DTSTAMP:20260420T200400Z
DESCRIPTION;LANGUAGE=de:Pre-Concert - Santiago Ruedas Piano Trio: In dieser Saison öffnen sich die Türen des Brucknerhauses regelmäßig für kostenlose Kurzkonzerte, bei denen Studierende der Anton Bruckner Privatuniversität Programme präsentieren. Nicht nur versierte Konzertgänger:innen sind willkommen, sondern auch und gerade diejenigen, die einen neugierigen ersten Blick in ein Konzerthaus werfen möchten.

Brucknerhaus Linz
Untere Donaulände 7, 4010 Linz
i: www.brucknerhaus.at
t: +43 732 76120
e: brucknerhaus@liva.linz.at

Ein Service von Kultur.net. http://www.simskultur.net
SUMMARY;LANGUAGE=de:Pre-Concert - Santiago Ruedas Piano Trio
PRIORITY:5
CLASS:PUBLIC
URL:https://kultur.net/brucknerhaus-linz/programm/pre-concert-santiago-ruedas-piano-trio
STATUS:CONFIRMED
END:VEVENT
END:VCALENDAR
