BEGIN:VCALENDAR
PRODID:-//SIMsKultur.net//iCal Class MIMEDIR//EN
VERSION:2.0
METHOD:PUBLISH
BEGIN:VEVENT
DTSTART:20260507T173000Z
DTEND:20260507T183000Z
LOCATION;LANGUAGE=de:Untere Donaulände 7, 4010 Linz
TRANSP:OPAQUE
SEQUENCE:0
UID:6404b52be90dcf3a5937f026560c7d5d
DTSTAMP:20260424T060700Z
DESCRIPTION;LANGUAGE=de:La Venexiana & Teatri 35 - Caravaggio und Monteverdi: Der Maler Michelangelo Merisi, besser bekannt als Caravaggio, war ein Meister der Kontraste. Mit seiner plastischen Chiaroscuro-Technik ließ er in seinen Werken Szenen nahezu lebendig erscheinen. Die Theatergruppe Teatri 35 hat es sich zur Aufgabe gemacht, Caravaggios Gemälde auf der Bühne zum Leben zu erwecken.

Brucknerhaus Linz
Untere Donaulände 7, 4010 Linz
i: www.brucknerhaus.at
t: +43 732 76120
e: brucknerhaus@liva.linz.at

Ein Service von Kultur.net. http://www.simskultur.net
SUMMARY;LANGUAGE=de:La Venexiana & Teatri 35 - Caravaggio und Monteverdi
PRIORITY:5
CLASS:PUBLIC
URL:https://kultur.net/brucknerhaus-linz/programm/la-venexiana-teatri-35-caravaggio-und-monteverdi
STATUS:CONFIRMED
END:VEVENT
END:VCALENDAR
