BEGIN:VCALENDAR
PRODID:-//SIMsKultur.net//iCal Class MIMEDIR//EN
VERSION:2.0
METHOD:PUBLISH
BEGIN:VEVENT
DTSTART:20260427T180000Z
DTEND:20260427T190000Z
LOCATION;LANGUAGE=de:Untere Donaulände 7, 4010 Linz
TRANSP:OPAQUE
SEQUENCE:0
UID:fc4f66e6f1bce95dde0363a5a5b6c785
DTSTAMP:20260424T021900Z
DESCRIPTION;LANGUAGE=de:The Ten Tenors - Time of Your Life Tour 2026: Die Erfolgsgeschichte geht weiter! Nach einer grandiosen Tournee im Jahr 2025 mit restlos ausverkauften Häusern, stehenden Ovationen und durchweg begeisterten Kritiken freuen sich die TEN TENORS, ihre Erfolgsgeschichte mit der Time of Your Life Tour 2026 fortzusetzen!

Brucknerhaus Linz
Untere Donaulände 7, 4010 Linz
i: www.brucknerhaus.at
t: +43 732 76120
e: brucknerhaus@liva.linz.at

Ein Service von Kultur.net. http://www.simskultur.net
SUMMARY;LANGUAGE=de:The Ten Tenors - Time of Your Life Tour 2026
PRIORITY:5
CLASS:PUBLIC
URL:https://kultur.net/brucknerhaus-linz/programm/the-ten-tenors-time-of-your-life-tour-2026
STATUS:CONFIRMED
END:VEVENT
END:VCALENDAR
