BEGIN:VCALENDAR
PRODID:-//SIMsKultur.net//iCal Class MIMEDIR//EN
VERSION:2.0
METHOD:PUBLISH
BEGIN:VEVENT
DTSTART:20260422T173000Z
DTEND:20260422T183000Z
LOCATION;LANGUAGE=de:Untere Donaulände 7, 4010 Linz
TRANSP:OPAQUE
SEQUENCE:0
UID:5fcfee45693b5dfd93c4e67b213317aa
DTSTAMP:20260426T021900Z
DESCRIPTION;LANGUAGE=de:Federspiel - Wir und Jetzt: Sagen Sie ruhig Blaskapelle! Aber was die Herren von Federspiel auf die Bühne bringen, widerlegt wohl die meisten Erwartungen, die das Wort mit sich bringt. Dennoch sind sie, sagen Sie’s ruhig: eine Blaskapelle.

Brucknerhaus Linz
Untere Donaulände 7, 4010 Linz
i: www.brucknerhaus.at
t: +43 732 76120
e: brucknerhaus@liva.linz.at

Ein Service von Kultur.net. http://www.simskultur.net
SUMMARY;LANGUAGE=de:Federspiel - Wir und Jetzt
PRIORITY:5
CLASS:PUBLIC
URL:https://kultur.net/brucknerhaus-linz/programm/federspiel-wir-und-jetzt
STATUS:CONFIRMED
END:VEVENT
END:VCALENDAR
