BEGIN:VCALENDAR
PRODID:-//SIMsKultur.net//iCal Class MIMEDIR//EN
VERSION:2.0
METHOD:PUBLISH
BEGIN:VEVENT
DTSTART:20261027T120000Z
DTEND:20261027T130000Z
LOCATION;LANGUAGE=de:Kulturbezirk 5, 3100 St. Pölten
TRANSP:OPAQUE
SEQUENCE:0
UID:cc2bce164e67fbdf8d4264f4d8f26a89
DTSTAMP:20260423T093300Z
DESCRIPTION;LANGUAGE=de:Kreativstation in den Herbstferien 2026: Kommen sie mit ihren Kindern und gehen, sie wann immer sie wollen! Bei den täglich wechselnden Kreativstationen in den Ferien wird gebastelt und experimentiert. Solange die Station geöffnet hat, können sie jederzeit vorbeikommen, es ist keine Anmeldung erforderlich. 

MUSEUM NIEDERÖSTERREICH
Kulturbezirk 5, 3100 St. Pölten
i: https://www.museumnoe.at/de
t: +43 2742 908090-998
e: info@museumnoe.at

Ein Service von Kultur.net. http://www.simskultur.net
SUMMARY;LANGUAGE=de:Kreativstation in den Herbstferien 2026
PRIORITY:5
CLASS:PUBLIC
URL:https://kultur.net/museum-niederoesterreich/programm/kreativstation-in-den-herbstferien-2026
STATUS:CONFIRMED
END:VEVENT
END:VCALENDAR
