BEGIN:VCALENDAR
PRODID:-//SIMsKultur.net//iCal Class MIMEDIR//EN
VERSION:2.0
METHOD:PUBLISH
BEGIN:VEVENT
DTSTART:20261026T120000Z
DTEND:20261026T130000Z
LOCATION;LANGUAGE=de:Kulturbezirk 5, 3100 St. Pölten
TRANSP:OPAQUE
SEQUENCE:0
UID:320c3c0814a5e5e8aa77d9d5c7bfa12e
DTSTAMP:20260422T101400Z
DESCRIPTION;LANGUAGE=de:Kreativstation in den Herbstferien 2026: Kommen sie mit ihren Kindern und gehen, sie wann immer sie wollen! Bei den täglich wechselnden Kreativstationen in den Ferien wird gebastelt und experimentiert. Solange die Station geöffnet hat, können sie jederzeit vorbeikommen, es ist keine Anmeldung erforderlich. 

MUSEUM NIEDERÖSTERREICH
Kulturbezirk 5, 3100 St. Pölten
i: https://www.museumnoe.at/de
t: +43 2742 908090-998
e: info@museumnoe.at

Ein Service von Kultur.net. http://www.simskultur.net
SUMMARY;LANGUAGE=de:Kreativstation in den Herbstferien 2026
PRIORITY:5
CLASS:PUBLIC
URL:https://kultur.net/museum-niederoesterreich/programm/kreativstation-in-den-herbstferien-2026
STATUS:CONFIRMED
END:VEVENT
END:VCALENDAR
