BEGIN:VCALENDAR
PRODID:-//SIMsKultur.net//iCal Class MIMEDIR//EN
VERSION:2.0
METHOD:PUBLISH
BEGIN:VEVENT
DTSTART:20260507T121500Z
DTEND:20260507T131500Z
LOCATION;LANGUAGE=de:Kulturbezirk 5, 3100 St. Pölten
TRANSP:OPAQUE
SEQUENCE:0
UID:523901725dc0632c2620a04d61cc02ad
DTSTAMP:20260423T003100Z
DESCRIPTION;LANGUAGE=de:Thementage - Kinder des Krieges – Zeitzeug:innen erzählen: Expert:innen und Zeitzeug:innen kommen gemeinsam zu Wort, persönliche Berichte, Kurzvorträge und moderierte Gespräche eröffnen unterschiedliche Zugänge zur Zeitgeschichte. Filmvorführungen und ein Podiumsgespräch ergänzen das Programm.

MUSEUM NIEDERÖSTERREICH
Kulturbezirk 5, 3100 St. Pölten
i: https://www.museumnoe.at/de
t: +43 2742 908090-998
e: info@museumnoe.at

Ein Service von Kultur.net. http://www.simskultur.net
SUMMARY;LANGUAGE=de:Thementage - Kinder des Krieges – Zeitzeug:innen erzählen
PRIORITY:5
CLASS:PUBLIC
URL:https://kultur.net/museum-niederoesterreich/programm/thementage-kinder-des-krieges-zeitzeuginnen-erzaehlen
STATUS:CONFIRMED
END:VEVENT
END:VCALENDAR
