BEGIN:VCALENDAR
PRODID:-//SIMsKultur.net//iCal Class MIMEDIR//EN
VERSION:2.0
METHOD:PUBLISH
BEGIN:VEVENT
DTSTART:20260425T184500Z
DTEND:20260425T194500Z
LOCATION;LANGUAGE=de:Herzogenburger Straße 69, 3100 St. Pölten
TRANSP:OPAQUE
SEQUENCE:0
UID:1f7afd1bf2705bbc4748a1f4b5593026
DTSTAMP:20260424T230200Z
DESCRIPTION;LANGUAGE=de:Mogli: Live in Concert - Konzert von Mogli im besonderen Ambiente des Kesselhaus - Die vielseitige Künstlerin Mogli vereint Musik, Film, Schauspiel und visuelle Kunst in einer einzigartigen Performance. Bekannt wurde sie 2017 durch die Netflix-Dokumentation „Expedition Happiness“ und den Soundtrack „Wanderer“.

Glanzstoff Kesselhaus
Herzogenburger Straße 69, 3100 St. Pölten
i: 
t: 

Ein Service von Kultur.net. http://www.simskultur.net
SUMMARY;LANGUAGE=de:Mogli
PRIORITY:5
CLASS:PUBLIC
URL:https://kultur.net/glanzstoff-kesselhaus/programm/mogli
STATUS:CONFIRMED
END:VEVENT
END:VCALENDAR
