BEGIN:VCALENDAR
PRODID:-//SIMsKultur.net//iCal Class MIMEDIR//EN
VERSION:2.0
METHOD:PUBLISH
BEGIN:VEVENT
DTSTART:20260425T083000Z
DTEND:20260425T093000Z
LOCATION;LANGUAGE=de:Spratzerner Kirchenweg 81-83, 3100 St. Pölten
TRANSP:OPAQUE
SEQUENCE:0
UID:344e8f1cff543b0120d2bb5b8b8bfbeb
DTSTAMP:20260424T214500Z
DESCRIPTION;LANGUAGE=de:Über die Natur des Menschen – oder: Wozu sind wir im Stande?: Die Kulturanthropologin Bettina Ludwig verbindet Wissenschaft und persönliche Erzählungen zu einer inspirierenden Reflexion über das Mensch-Sein zwischen Natur und Kultur.

Sonnenpark St. Pölten
Spratzerner Kirchenweg 81-83, 3100 St. Pölten
i: 
t: 

Ein Service von Kultur.net. http://www.simskultur.net
SUMMARY;LANGUAGE=de:Über die Natur des Menschen – oder: Wozu sind wir im Stande?
PRIORITY:5
CLASS:PUBLIC
URL:https://kultur.net/sonnenpark-st-poelten/programm/ueber-die-natur-des-menschen-oder-wozu-sind-wir-im-stande
STATUS:CONFIRMED
END:VEVENT
END:VCALENDAR
