BEGIN:VCALENDAR
PRODID:-//SIMsKultur.net//iCal Class MIMEDIR//EN
VERSION:2.0
METHOD:PUBLISH
BEGIN:VEVENT
DTSTART:20260425T073000Z
DTEND:20260425T083000Z
LOCATION;LANGUAGE=de:Spratzerner Kirchenweg 81-83, 3100 St. Pölten
TRANSP:OPAQUE
SEQUENCE:0
UID:449686736807b1e389849df60ed4e13a
DTSTAMP:20260419T161000Z
DESCRIPTION;LANGUAGE=de:Ankommen im Sonnenpark: Der zweite Festivaltag beginnt im Sonnenpark mit einem ruhigen Ankommen. Bei Kaffee und Kipferl laden die Veranstalter dazu ein, den Morgen im Park bewusst zu beginnen: den ersten Geräuschen des Tages zu lauschen, die Atmosphäre des Ortes wahrzunehmen und in entspannter Stimmung zusammenzukommen.

Sonnenpark St. Pölten
Spratzerner Kirchenweg 81-83, 3100 St. Pölten
i: 
t: 

Ein Service von Kultur.net. http://www.simskultur.net
SUMMARY;LANGUAGE=de:Ankommen im Sonnenpark
PRIORITY:5
CLASS:PUBLIC
URL:https://kultur.net/sonnenpark-st-poelten/programm/ankommen-im-sonnenpark
STATUS:CONFIRMED
END:VEVENT
END:VCALENDAR
