BEGIN:VCALENDAR
PRODID:-//SIMsKultur.net//iCal Class MIMEDIR//EN
VERSION:2.0
METHOD:PUBLISH
BEGIN:VEVENT
DTSTART:20260606T080000Z
DTEND:20260606T090000Z
LOCATION;LANGUAGE=de:Dr. Karl Renner-Promenade 22, 3100 St. Pölten
TRANSP:OPAQUE
SEQUENCE:0
UID:f440c252ae5fa274404e2f6e847918bc
DTSTAMP:20260423T025100Z
DESCRIPTION;LANGUAGE=de:Ö1 „Klassik-Treffpunkt“: live aus der Ehemaligen Synagoge - Die Mitwirkenden von „Winterberg & Winterberg“ sind zu Gast in der beliebten Ö1 Live-Sendung „Klassiktreffpunkt“. Eintritt frei! 

Ehemalige Synagoge St. Pölten
Dr. Karl Renner-Promenade 22, 3100 St. Pölten
i: https://www.ehemalige-synagoge.at/de
t: +43 2742 908090-972
e: info@ehemalige-synagoge.at

Ein Service von Kultur.net. http://www.simskultur.net
SUMMARY;LANGUAGE=de:Ö1 „Klassik-Treffpunkt“
PRIORITY:5
CLASS:PUBLIC
URL:https://kultur.net/ehemalige-synagoge-st-poelten/programm/oe1-klassik-treffpunkt
STATUS:CONFIRMED
END:VEVENT
END:VCALENDAR
