BEGIN:VCALENDAR
PRODID:-//SIMsKultur.net//iCal Class MIMEDIR//EN
VERSION:2.0
METHOD:PUBLISH
BEGIN:VEVENT
DTSTART:20260417T163000Z
DTEND:20260417T173000Z
LOCATION;LANGUAGE=de:Dr. Karl Renner-Promenade 22, 3100 St. Pölten
TRANSP:OPAQUE
SEQUENCE:0
UID:fbd2d8297ef9b4344f8d4ceba0831707
DTSTAMP:20260419T192400Z
DESCRIPTION;LANGUAGE=de:Smetana Trio: Das Smetana Trio aus Prag ist ein Welt-Ensemble, das bereits 1934 gegründet wurde. Prof. Lehrbaumer beruhigt schmunzelnd, dass man keine Sorge haben müsse, dass nun, nach 91 Jahren, die Gründungsmitglieder spielen würden. Vielmehr ist es eine der Besonderheiten dieses Trios, dass es sich durch die Jahre hin immer wieder nahtlos, mal in der einen, mal in einer anderen Position verjüngt, sodass seine hohe Qualität stets beibehalten und seine Spieltradition weitergegeben wurde.

Ehemalige Synagoge St. Pölten
Dr. Karl Renner-Promenade 22, 3100 St. Pölten
i: https://www.ehemalige-synagoge.at/de
t: +43 2742 908090-972
e: info@ehemalige-synagoge.at

Ein Service von Kultur.net. http://www.simskultur.net
SUMMARY;LANGUAGE=de:Smetana Trio
PRIORITY:5
CLASS:PUBLIC
URL:https://kultur.net/ehemalige-synagoge-st-poelten/programm/smetana-trio
STATUS:CONFIRMED
END:VEVENT
END:VCALENDAR
