BEGIN:VCALENDAR
PRODID:-//SIMsKultur.net//iCal Class MIMEDIR//EN
VERSION:2.0
METHOD:PUBLISH
BEGIN:VEVENT
DTSTART:20260423T220000Z
LOCATION;LANGUAGE=de:Dr. Karl Renner-Promenade 22, 3100 St. Pölten
TRANSP:OPAQUE
SEQUENCE:0
UID:6fd5daf36ecb91c47d54aaac9384fc37
DTSTAMP:20260422T175100Z
DESCRIPTION;LANGUAGE=de:Geraubte Heiligkeit – Judaica aus Niederösterreich: In jedem Toraschrein einer Synagoge stehen mindestens drei große Pergamentrollen, aus denen im Gottesdienst der jeweilige Wochenabschnitt der Tora, der Fünf Bücher Moses, gelesen wird. Als heilige Gegenstände werden sie mit bestickten Hüllen geschützt und mit einer Krone oder Aufsätzen und einem Schild geschmückt – so auch in den etwa 25 Bethäusern, die in Niederösterreich existierten. Was ist mit diesen vielen kostbaren Dingen geschehen?

Ehemalige Synagoge St. Pölten
Dr. Karl Renner-Promenade 22, 3100 St. Pölten
i: https://www.ehemalige-synagoge.at/de
t: +43 2742 908090-972
e: info@ehemalige-synagoge.at

Ein Service von Kultur.net. http://www.simskultur.net
SUMMARY;LANGUAGE=de:Geraubte Heiligkeit – Judaica aus Niederösterreich
PRIORITY:5
CLASS:PUBLIC
URL:https://kultur.net/ehemalige-synagoge-st-poelten/programm/geraubte-heiligkeit-judaica-aus-niederoesterreich
STATUS:CONFIRMED
END:VEVENT
END:VCALENDAR
