BEGIN:VCALENDAR
PRODID:-//SIMsKultur.net//iCal Class MIMEDIR//EN
VERSION:2.0
METHOD:PUBLISH
BEGIN:VEVENT
DTSTART:20260903T220000Z
LOCATION;LANGUAGE=de:Prandtauerstraße 2, 3100 St. Pölten
TRANSP:OPAQUE
SEQUENCE:0
UID:6e5bdb5d2d5389e5320235a53a7008df
DTSTAMP:20260421T033100Z
DESCRIPTION;LANGUAGE=de:Sommer im Stadtmuseum St. Pölten: In der letzten Ferienwoche öffnet das Stadtmuseum für Schüler:innen von 7 – 12 Jahren die Türen schon um 8 Uhr morgens. Das Haus hat jeden Tag bis 13 Uhr Zeit für geschichtliche, archäologische Entdeckungen, kreative Aktivitäten und kulinarische Spezialitäten.

Stadtmuseum St. Pölten
Prandtauerstraße 2, 3100 St. Pölten
i: www.stadtmuseum-stpoelten.at
t: +43 2742 3332643
e: office@stadtmuseum-stpoelten.at

Ein Service von Kultur.net. http://www.simskultur.net
SUMMARY;LANGUAGE=de:Sommer im Stadtmuseum St. Pölten
PRIORITY:5
CLASS:PUBLIC
URL:https://kultur.net/stadtmuseum-st-poelten/programm/sommer-im-stadtmuseum-st-poelten
STATUS:CONFIRMED
END:VEVENT
END:VCALENDAR
