BEGIN:VCALENDAR
PRODID:-//SIMsKultur.net//iCal Class MIMEDIR//EN
VERSION:2.0
METHOD:PUBLISH
BEGIN:VEVENT
DTSTART:20260508T160000Z
DTEND:20260508T170000Z
LOCATION;LANGUAGE=de:Prandtauerstraße 2, 3100 St. Pölten
TRANSP:OPAQUE
SEQUENCE:0
UID:7348fc4f79ea3a3ca0c2deb45f1a41a3
DTSTAMP:20260425T210000Z
DESCRIPTION;LANGUAGE=de:Ernest A. Kienzl – ZYKLEN - Präsentation der neuen Monographie: Im Rahmen der Eröffnung wird zudem die neue Publikation „Ernest A. Kienzl – Zyklen“ aus dem Verlag für moderne Kunst vorgestellt. Die Monographie enthält Texte von Carl Aigner, Hartwig Knack, Lisa Ortner-Kreil und Thomas Pulle und bietet eine vertiefende kunstwissenschaftliche Einordnung.

Stadtmuseum St. Pölten
Prandtauerstraße 2, 3100 St. Pölten
i: www.stadtmuseum-stpoelten.at
t: +43 2742 3332643
e: office@stadtmuseum-stpoelten.at

Ein Service von Kultur.net. http://www.simskultur.net
SUMMARY;LANGUAGE=de:Ernest A. Kienzl – ZYKLEN - Präsentation der neuen Monographie
PRIORITY:5
CLASS:PUBLIC
URL:https://kultur.net/stadtmuseum-st-poelten/programm/ernest-a-kienzl-zyklen-praesentation-der-neuen-monographie
STATUS:CONFIRMED
END:VEVENT
END:VCALENDAR
