BEGIN:VCALENDAR
PRODID:-//SIMsKultur.net//iCal Class MIMEDIR//EN
VERSION:2.0
METHOD:PUBLISH
BEGIN:VEVENT
DTSTART:20260523T103000Z
DTEND:20260523T113000Z
LOCATION;LANGUAGE=de:Mariahilfer Straße 212, 1140 Wien
TRANSP:OPAQUE
SEQUENCE:0
UID:39888936358abd75aadf2ea866625adf
DTSTAMP:20260422T084500Z
DESCRIPTION;LANGUAGE=de:Führung: Strom – Teilchen auf Reisen 2026: Computer, Smartphone und Toaster – alles funktioniert nur mit Strom! Aber was ist eigentlich Strom? Und wo kommt er überhaupt her? Mit Hilfe von Experimenten und spannenden Objekten gehen Sie dem Strom gemeinsam auf den Grund! 

Technisches Museum Wien
Mariahilfer Straße 212, 1140 Wien
i: https://www.technischesmuseum.at/
t: +43 1 89998-0
e: museumsbox@tmw.at

Ein Service von Kultur.net. http://www.simskultur.net
SUMMARY;LANGUAGE=de:Führung: Strom – Teilchen auf Reisen 2026
PRIORITY:5
CLASS:PUBLIC
URL:https://kultur.net/technisches-museum-wien/programm/fuehrung-strom-teilchen-auf-reisen-2026
STATUS:CONFIRMED
END:VEVENT
END:VCALENDAR
