BEGIN:VCALENDAR
PRODID:-//SIMsKultur.net//iCal Class MIMEDIR//EN
VERSION:2.0
METHOD:PUBLISH
BEGIN:VEVENT
DTSTART:20260525T220000Z
LOCATION;LANGUAGE=de:Mariahilfer Straße 212, 1140 Wien
TRANSP:OPAQUE
SEQUENCE:0
UID:663d5556f7719b29ceee387b28b3ff7c
DTSTAMP:20260422T230300Z
DESCRIPTION;LANGUAGE=de:MINIXPLORE 2026 - Entdecken, Ausprobieren, Erforschen: In der vielfältigen Bewegungslandschaft, die für Kinder von 3 bis 8 Jahren konzipiert ist, warten zahlreiche Stationen auf neugierige Forscher_innen!  Im miniXplore steht spielerisches Erkunden im Vordergrund – ohne Bedienungsanleitung und ohne „richtig“ und „falsch“. So können sich Kinder und erwachsene Begleitpersonen ohne Hemmschwelle und mit viel Spaß und Spannung an MINT-Themen (Mathematik, Informatik, Naturwissenschaft und Technik) heranwagen.

Technisches Museum Wien
Mariahilfer Straße 212, 1140 Wien
i: https://www.technischesmuseum.at/
t: +43 1 89998-0
e: museumsbox@tmw.at

Ein Service von Kultur.net. http://www.simskultur.net
SUMMARY;LANGUAGE=de:MINIXPLORE 2026 - Entdecken, Ausprobieren, Erforschen
PRIORITY:5
CLASS:PUBLIC
URL:https://kultur.net/technisches-museum-wien/programm/minixplore-2026-entdecken-ausprobieren-erforschen
STATUS:CONFIRMED
END:VEVENT
END:VCALENDAR
