BEGIN:VCALENDAR
PRODID:-//SIMsKultur.net//iCal Class MIMEDIR//EN
VERSION:2.0
METHOD:PUBLISH
BEGIN:VEVENT
DTSTART:20260605T220000Z
LOCATION;LANGUAGE=de:Mariahilfer Straße 212, 1140 Wien
TRANSP:OPAQUE
SEQUENCE:0
UID:316d84d6f1e85bde9d43803da0b71c7b
DTSTAMP:20260422T101700Z
DESCRIPTION;LANGUAGE=de:Innovation Corner: POWER ON - Die Zukunft der Stromerzeugung: An welchen technischen Innovationen wird derzeit gearbeitet? Welche Ideen und Erfindungen aus Österreich können unsere Welt verändern? Die neue Ausstellungsserie zeigt aktuelle Entwicklungen am Puls der Zeit.

Technisches Museum Wien
Mariahilfer Straße 212, 1140 Wien
i: https://www.technischesmuseum.at/
t: +43 1 89998-0
e: museumsbox@tmw.at

Ein Service von Kultur.net. http://www.simskultur.net
SUMMARY;LANGUAGE=de:Innovation Corner: POWER ON - Die Zukunft der Stromerzeugung
PRIORITY:5
CLASS:PUBLIC
URL:https://kultur.net/technisches-museum-wien/programm/innovation-corner-power-on-die-zukunft-der-stromerzeugung
STATUS:CONFIRMED
END:VEVENT
END:VCALENDAR
