BEGIN:VCALENDAR
PRODID:-//SIMsKultur.net//iCal Class MIMEDIR//EN
VERSION:2.0
METHOD:PUBLISH
BEGIN:VEVENT
DTSTART:20260712T090000Z
DTEND:20260712T100000Z
LOCATION;LANGUAGE=de:Hauptplatz 1, 3350 Haag
TRANSP:OPAQUE
SEQUENCE:0
UID:17829b5ea5f885bff9795f6ac219ef06
DTSTAMP:20260419T121600Z
DESCRIPTION;LANGUAGE=de:Katharina Stemberger & Die Strottern - „Tausendmal schöner als ihr“: Lesung mit Musikbegleitung - Der gemeinsame Auftritt der renommierten Schauspielerin Katharina Stemberger zusammen mit den talentierten Musikern von Die Strottern verspricht eine kulturelle Feier des österreichischen Schaffens zu werden. Katharina Stemberger, derzeit bekannt aus der Fernsehserie "SOKO Linz", wird die Erzählungen der aus Zagreb stammenden Anna Baar mit ihrer charakteristischen Intensität und Empathie zum Leben erwecken.

Bühne Theatersommer Haag
Hauptplatz 1, 3350 Haag
i: www.theatersommer.at
t: +43 7434 44600
e: haager@theatersommer.at

Ein Service von Kultur.net. http://www.simskultur.net
SUMMARY;LANGUAGE=de:Katharina Stemberger & Die Strottern - „Tausendmal schöner als ihr“
PRIORITY:5
CLASS:PUBLIC
URL:https://kultur.net/buehne-theatersommer-haag/programm/katharina-stemberger-die-strottern-tausendmal-schoener-als-ihr
STATUS:CONFIRMED
END:VEVENT
END:VCALENDAR
