BEGIN:VCALENDAR
PRODID:-//SIMsKultur.net//iCal Class MIMEDIR//EN
VERSION:2.0
METHOD:PUBLISH
BEGIN:VEVENT
DTSTART:20260705T180000Z
DTEND:20260705T190000Z
LOCATION;LANGUAGE=de:Hauptplatz 1, 3350 Haag
TRANSP:OPAQUE
SEQUENCE:0
UID:bb3d1749e6dc7997c9472e0d336efd60
DTSTAMP:20260422T085600Z
DESCRIPTION;LANGUAGE=de:Manuel Rubey & Simon Schwarz - „Das Restaurant“: In ihrem Kabarettprogramm "Das Restaurant" wagen sich Manuel Rubey und Simon Schwarz erstmals gemeinsam auf die Bühne.

Bühne Theatersommer Haag
Hauptplatz 1, 3350 Haag
i: www.theatersommer.at
t: +43 7434 44600
e: haager@theatersommer.at

Ein Service von Kultur.net. http://www.simskultur.net
SUMMARY;LANGUAGE=de:Manuel Rubey & Simon Schwarz - „Das Restaurant“
PRIORITY:5
CLASS:PUBLIC
URL:https://kultur.net/buehne-theatersommer-haag/programm/manuel-rubey-simon-schwarz-das-restaurant
STATUS:CONFIRMED
END:VEVENT
END:VCALENDAR
