BEGIN:VCALENDAR
PRODID:-//SIMsKultur.net//iCal Class MIMEDIR//EN
VERSION:2.0
METHOD:PUBLISH
BEGIN:VEVENT
DTSTART:20260709T181500Z
DTEND:20260709T191500Z
LOCATION;LANGUAGE=de:Hauptplatz 1, 3350 Haag
TRANSP:OPAQUE
SEQUENCE:0
UID:1802c9eb479fb09d1cb3461a10bf1243
DTSTAMP:20260419T143000Z
DESCRIPTION;LANGUAGE=de:Der Geizige: Molière in einer Bearbeitung von Leander Haußmann - In Molières berühmter Komödie Der Geizige begegnen wir Harpagon, einem narzisstischen Knauser, der sein im Garten vergrabenes Geld beinahe erotisch verehrt. Liebe ist für ihn nur ein Geschäft, Mitmenschlichkeit nicht einmal ansatzweise erkennbar. Er terrorisiert seine Familie und will die Heiratspläne seiner Kinder zu seinem Vorteil nutzen:

Bühne Theatersommer Haag
Hauptplatz 1, 3350 Haag
i: www.theatersommer.at
t: +43 7434 44600
e: haager@theatersommer.at

Ein Service von Kultur.net. http://www.simskultur.net
SUMMARY;LANGUAGE=de:Der Geizige
PRIORITY:5
CLASS:PUBLIC
URL:https://kultur.net/buehne-theatersommer-haag/programm/der-geizige
STATUS:CONFIRMED
END:VEVENT
END:VCALENDAR
