BEGIN:VCALENDAR
PRODID:-//SIMsKultur.net//iCal Class MIMEDIR//EN
VERSION:2.0
METHOD:PUBLISH
BEGIN:VEVENT
DTSTART:20260823T170000Z
DTEND:20260823T180000Z
LOCATION;LANGUAGE=de:Marktplatz 177, 3610 Weißenkirchen
TRANSP:OPAQUE
SEQUENCE:0
UID:8031e9e3c382ec677e03325757a53b26
DTSTAMP:20260423T133400Z
DESCRIPTION;LANGUAGE=de:Der Wachauer Jedermann: „Is oans im Glück gibt’s Freund grad gnua, Wia d’Schaben ans Licht, so fliagns am zua. Doch wann am s’Glück den Buckl draht, dann sind die Freund’ wie wegga g’waht.“ Auf vielfachen Wunsch Wiederaufnahme des Sensationserfolgs im neuen spannenden Design! In Anlehnung an die Idee des „Mondsee-Jedermanns“, wird der reiche Winzer Jedermann wieder die schaurigen „Jeeedermaaann“ Rufe im herrlichen Renaissance Ambiente des Teisenhoferhofs, im Weltkulturerbe Wachau hören.

Teisenhoferhof
Marktplatz 177, 3610 Weißenkirchen
i: https://www.teisenhoferhof.at/
t: +43 2715 2268
e: info@teisenhoferhof.at

Ein Service von Kultur.net. http://www.simskultur.net
SUMMARY;LANGUAGE=de:Der Wachauer Jedermann
PRIORITY:5
CLASS:PUBLIC
URL:https://kultur.net/teisenhoferhof/programm/der-wachauer-jedermann
STATUS:CONFIRMED
END:VEVENT
END:VCALENDAR
