BEGIN:VCALENDAR
PRODID:-//SIMsKultur.net//iCal Class MIMEDIR//EN
VERSION:2.0
METHOD:PUBLISH
BEGIN:VEVENT
DTSTART:20260718T090000Z
DTEND:20260718T100000Z
LOCATION;LANGUAGE=de:Mitterretzbach 305/1, 2070 Mitterretzbach
TRANSP:OPAQUE
SEQUENCE:0
UID:dd4a976b8beb8d98f2158258e352a203
DTSTAMP:20260424T073300Z
DESCRIPTION;LANGUAGE=de:Offene Grenzen WANDERUNG ZUM HEILIGEN STEIN: Freier Eintritt - Grenzen? – Nicht mit uns! Auf der Anhöhe des Manhartsbergs, in unmittelbarer Nähe zur österreichisch-tschechischen Grenze, liegt ein merkwürdiger Schalenstein. Wahrscheinlich diente er schon in prähistorischer Zeit als Kultstätte.

Heiliger Stein in Mitterretzbach
Mitterretzbach 305/1, 2070 Mitterretzbach
i: 
t: 

Ein Service von Kultur.net. http://www.simskultur.net
SUMMARY;LANGUAGE=de:Offene Grenzen WANDERUNG ZUM HEILIGEN STEIN
PRIORITY:5
CLASS:PUBLIC
URL:https://kultur.net/heiliger-stein-in-mitterretzbach/programm/offene-grenzen-wanderung-zum-heiligen-stein
STATUS:CONFIRMED
END:VEVENT
END:VCALENDAR
