BEGIN:VCALENDAR
PRODID:-//SIMsKultur.net//iCal Class MIMEDIR//EN
VERSION:2.0
METHOD:PUBLISH
BEGIN:VEVENT
DTSTART:20260717T160000Z
DTEND:20260717T170000Z
LOCATION;LANGUAGE=de:Pfarrgasse 9, 2070 Retz
TRANSP:OPAQUE
SEQUENCE:0
UID:f526b8400589f1f131f4b6efa16adbc1
DTSTAMP:20260421T083000Z
DESCRIPTION;LANGUAGE=de:Vortrag GLAUBE, HOFFNUNG UND WIDERSTAND: Freier Eintritt - Die Wahrheit hinter der Legende. Der Feind vor den Toren. Der König in Schockstarre. Minister, Generalität und Priesterschaft drängen auf bedingungslose Kapitulation. Allein Judith, rechtlose Frau in patriarchaler Gesellschaft, nimmt das Los ihres Volkes in die Hand.

Kulturhaus Schüttkasten
Pfarrgasse 9, 2070 Retz
i: https://www.retz.gv.at/de/Kulturhaus_Schuettkasten
t: +43 2942 2223
e: office@stadtgemeinde-retz.at

Ein Service von Kultur.net. http://www.simskultur.net
SUMMARY;LANGUAGE=de:Vortrag GLAUBE, HOFFNUNG UND WIDERSTAND
PRIORITY:5
CLASS:PUBLIC
URL:https://kultur.net/kulturhaus-schuettkasten/programm/vortrag-glaube-hoffnung-und-widerstand
STATUS:CONFIRMED
END:VEVENT
END:VCALENDAR
