BEGIN:VCALENDAR
PRODID:-//SIMsKultur.net//iCal Class MIMEDIR//EN
VERSION:2.0
METHOD:PUBLISH
BEGIN:VEVENT
DTSTART:20260716T173000Z
DTEND:20260716T183000Z
LOCATION;LANGUAGE=de:Pfarrgasse 9, 2070 Retz
TRANSP:OPAQUE
SEQUENCE:0
UID:491e866551d8f41203ee89edea9f0497
DTSTAMP:20260419T121600Z
DESCRIPTION;LANGUAGE=de:Literatur & Engagement GERTRAUD KLEMM: Die österreichische Schriftstellerin Gertraud Klemm zählt zu den meistdiskutierten Literat:innen der Gegenwart. Ihre mehrfach preisgekrönten Werke analysieren wortgewaltig wie tiefenscharf die Rolle der Frau in unserer Gesellschaft.

Kulturhaus Schüttkasten
Pfarrgasse 9, 2070 Retz
i: https://www.retz.gv.at/de/Kulturhaus_Schuettkasten
t: +43 2942 2223
e: office@stadtgemeinde-retz.at

Ein Service von Kultur.net. http://www.simskultur.net
SUMMARY;LANGUAGE=de:Literatur & Engagement GERTRAUD KLEMM
PRIORITY:5
CLASS:PUBLIC
URL:https://kultur.net/kulturhaus-schuettkasten/programm/literatur-engagement-gertraud-klemm
STATUS:CONFIRMED
END:VEVENT
END:VCALENDAR
