BEGIN:VCALENDAR
PRODID:-//SIMsKultur.net//iCal Class MIMEDIR//EN
VERSION:2.0
METHOD:PUBLISH
BEGIN:VEVENT
DTSTART:20260712T090000Z
DTEND:20260712T100000Z
LOCATION;LANGUAGE=de:Thayabrücke, 2082 Hardegg
TRANSP:OPAQUE
SEQUENCE:0
UID:17829b5ea5f885bff9795f6ac219ef06
DTSTAMP:20260424T230100Z
DESCRIPTION;LANGUAGE=de:Offene Grenzen FRÄULEIN BLAUBOAD: Freier Eintritt - Gemeinsam über Grenzen gehen. Im wahrsten Sinn des Wortes. Heute ist sie ein beliebter Wanderweg, der Österreich und Tschechien verbindet. Das Zollhäuschen, ehemals mit bewaffneten Grenzposten besetzt, ist mittlerweile ein Museum. Doch viele können sich noch gut erinnern: Ihrer Bohlen beraubt, verbarrikadiert und schwer bewacht war die unpassierbare Brücke über die Thaya ein Symbol des Kalten Krieges.

Thayabrücke Hardegg
Thayabrücke, 2082 Hardegg
i: 
t: 

Ein Service von Kultur.net. http://www.simskultur.net
SUMMARY;LANGUAGE=de:Offene Grenzen FRÄULEIN BLAUBOAD
PRIORITY:5
CLASS:PUBLIC
URL:https://kultur.net/thayabruecke-hardegg/programm/offene-grenzen-fraeulein-blauboad
STATUS:CONFIRMED
END:VEVENT
END:VCALENDAR
