BEGIN:VCALENDAR
PRODID:-//SIMsKultur.net//iCal Class MIMEDIR//EN
VERSION:2.0
METHOD:PUBLISH
BEGIN:VEVENT
DTSTART:20260726T143000Z
DTEND:20260726T153000Z
LOCATION;LANGUAGE=de:Rollfährestraße, 3390 Melk
TRANSP:OPAQUE
SEQUENCE:0
UID:227f9dfd1d634100cf17b60855aca675
DTSTAMP:20260424T153700Z
DESCRIPTION;LANGUAGE=de:Emma Ehrlich - Musikrevue für Kinder ab 5 Jahren: Für Emma ist es oft gar nicht einfach, einen so klingenden Familiennamen zu haben. Doch sie versucht, immer aufrichtig zu sein. Sie liebt es, die Wahrheit herauszufinden und die kleinen und großen Schwindeleien der Menschen aufzudecken.

Wachauarena Melk
Rollfährestraße, 3390 Melk
i: http://www.kultur-melk.at/sommerspiele/spielort.php
t: +43 2752 54060
e: office@wachaukulturmelk.at 

Ein Service von Kultur.net. http://www.simskultur.net
SUMMARY;LANGUAGE=de:Emma Ehrlich - Musikrevue für Kinder ab 5 Jahren
PRIORITY:5
CLASS:PUBLIC
URL:https://kultur.net/wachauarena-melk/programm/emma-ehrlich-musikrevue-fuer-kinder-ab-5-jahren
STATUS:CONFIRMED
END:VEVENT
END:VCALENDAR
