BEGIN:VCALENDAR
PRODID:-//SIMsKultur.net//iCal Class MIMEDIR//EN
VERSION:2.0
METHOD:PUBLISH
BEGIN:VEVENT
DTSTART:20260715T181500Z
DTEND:20260715T191500Z
LOCATION;LANGUAGE=de:Rollfährestraße, 3390 Melk
TRANSP:OPAQUE
SEQUENCE:0
UID:33c754653ec6d3b9b903e57452c99d4e
DTSTAMP:20260425T210300Z
DESCRIPTION;LANGUAGE=de:Global Kryner - 2nd Love - Tour 2026: Als Global Kryner 2004 die erste CD präsentierte, stand die Musikwelt Kopf. Es war Liebe auf den ersten Blick. Die Idee war genauso einfach wie genial: man nehme den legendären Oberkrainer-Sound eines Slavko Avsenik, verschmelze ihn mit Welthits, nehme eine Prise Jazz und jede Menge Spielwitz dazu und fertig ist die Rezeptur.

Wachauarena Melk
Rollfährestraße, 3390 Melk
i: http://www.kultur-melk.at/sommerspiele/spielort.php
t: +43 2752 54060
e: office@wachaukulturmelk.at 

Ein Service von Kultur.net. http://www.simskultur.net
SUMMARY;LANGUAGE=de:Global Kryner - 2nd Love - Tour 2026
PRIORITY:5
CLASS:PUBLIC
URL:https://kultur.net/wachauarena-melk/programm/global-kryner-2nd-love-tour-2026
STATUS:CONFIRMED
END:VEVENT
END:VCALENDAR
