BEGIN:VCALENDAR
PRODID:-//SIMsKultur.net//iCal Class MIMEDIR//EN
VERSION:2.0
METHOD:PUBLISH
BEGIN:VEVENT
DTSTART:20260715T080000Z
DTEND:20260715T090000Z
LOCATION;LANGUAGE=de:Jakob-Prandtauer-Straße 11 (Eingang Abt-Karl-Straße), 3390 Melk
TRANSP:OPAQUE
SEQUENCE:0
UID:fbbe0e3c0d33cb1c06fb2a4703e2a7f2
DTSTAMP:20260425T163300Z
DESCRIPTION;LANGUAGE=de:Theaterworkshop für Kinder - Geschichten über die Wahrheit: Workshop für Kinder von 6 bis 8 Jahren - In jeder Geschichte steckt ein Körnchen Wahrheit. Diesem Körnchen und den Geschichten dazu gehen die Kinder bei diesem Theater-Workshop auf den Grund. Und erforschen dabei die Grenze zwischen Wahrheit, Erfindung und Geschichten, die man erzählen muss.

Tischlerei Melk Kulturwerkstatt
Jakob-Prandtauer-Straße 11 (Eingang Abt-Karl-Straße), 3390 Melk
i: https://www.wachaukulturmelk.at/de/tischlereimelk/die-tischlerei
t: +43 2752 54060
e: office@wachaukulturmelk.at

Ein Service von Kultur.net. http://www.simskultur.net
SUMMARY;LANGUAGE=de:Theaterworkshop für Kinder - Geschichten über die Wahrheit
PRIORITY:5
CLASS:PUBLIC
URL:https://kultur.net/tischlerei-melk-kulturwerkstatt/programm/theaterworkshop-fuer-kinder-geschichten-ueber-die-wahrheit
STATUS:CONFIRMED
END:VEVENT
END:VCALENDAR
