BEGIN:VCALENDAR
PRODID:-//SIMsKultur.net//iCal Class MIMEDIR//EN
VERSION:2.0
METHOD:PUBLISH
BEGIN:VEVENT
DTSTART:20261017T173000Z
DTEND:20261017T183000Z
LOCATION;LANGUAGE=de:Karl Kislinger-Platz 6, 2560 Berndorf
TRANSP:OPAQUE
SEQUENCE:0
UID:2e30a0c455185d789094a39223755224
DTSTAMP:20260422T165600Z
DESCRIPTION;LANGUAGE=de:ALLES WAS SIE WOLLEN: Die Festspiele Berndorf bringen das Stück „Alles was sie wollen“ auf die Bühne. Es wird sieben Mal im Stadttheater Berndorf unter der Regie von Christine Wipplinger zu sehen sein. An der Seite von Kristina Sprenger als Lucie, einer erfolgreichen Theaterautorin, wird David Oberkogler ihren Nachbarn Thomas spielen.

Stadttheater Berndorf
Karl Kislinger-Platz 6, 2560 Berndorf
i: http://www.buehnen-berndorf.at/
t: +43 2672 82253-43
e: office@buehnen-berndorf.at

Ein Service von Kultur.net. http://www.simskultur.net
SUMMARY;LANGUAGE=de:ALLES WAS SIE WOLLEN
PRIORITY:5
CLASS:PUBLIC
URL:https://kultur.net/stadttheater-berndorf/programm/alles-was-sie-wollen
STATUS:CONFIRMED
END:VEVENT
END:VCALENDAR
